BEGIN:VCALENDAR
VERSION:2.0
PRODID:-//Site Henri RECH//NONSGML kigkonsult.se iCalcreator 2.30.10//
CALSCALE:GREGORIAN
METHOD:PUBLISH
UID:0af760ab-358c-4136-acd9-79235274c9f8
X-WR-CALNAME:iCagenda
X-WR-CALDESC:Event Management Extension for Joomla!
X-WR-RELCALID:3E26604A-50F4-4449-8B3E-E4F4932D05B5
X-WR-TIMEZONE:UTC
BEGIN:VTIMEZONE
TZID:UTC
END:VTIMEZONE
BEGIN:VEVENT
UID:6acec447-d328-4952-ac8b-4f7d51e90b3e
DTSTAMP:20260423T131212Z
CATEGORIES:Conférences
CLASS:PUBLIC
DESCRIPTION:
DTSTART:20251104T143000Z
DTEND:20251104T160000Z
GEO:00;0
LOCATION:Salle du Sénéchal 17 rue de Rémuzat 31000 TOYULOUSE
ORGANIZER;CN=:henri.rech@hotmail.fr
SEQUENCE:1
SUMMARY:Histoire des maladies infectieuses et comment s’en protéger
TRANSP:OPAQUE
URL:https://henri-rech.eu/index.php/evenements/conferences/1-histoire-des-m
 aladies-infectieuses-et-comment-s-en-proteger
END:VEVENT
END:VCALENDAR
